BEGIN:VCALENDAR
VERSION:2.0
PRODID:-//Hedwig Singers - ECPv6.15.12.2//NONSGML v1.0//EN
CALSCALE:GREGORIAN
METHOD:PUBLISH
X-WR-CALNAME:Hedwig Singers
X-ORIGINAL-URL:https://www.hedwig-singers.de
X-WR-CALDESC:Veranstaltungen für Hedwig Singers
REFRESH-INTERVAL;VALUE=DURATION:PT1H
X-Robots-Tag:noindex
X-PUBLISHED-TTL:PT1H
BEGIN:VTIMEZONE
TZID:Europe/Berlin
BEGIN:DAYLIGHT
TZOFFSETFROM:+0100
TZOFFSETTO:+0200
TZNAME:CEST
DTSTART:20180325T010000
END:DAYLIGHT
BEGIN:STANDARD
TZOFFSETFROM:+0200
TZOFFSETTO:+0100
TZNAME:CET
DTSTART:20181028T010000
END:STANDARD
BEGIN:DAYLIGHT
TZOFFSETFROM:+0100
TZOFFSETTO:+0200
TZNAME:CEST
DTSTART:20190331T010000
END:DAYLIGHT
BEGIN:STANDARD
TZOFFSETFROM:+0200
TZOFFSETTO:+0100
TZNAME:CET
DTSTART:20191027T010000
END:STANDARD
BEGIN:DAYLIGHT
TZOFFSETFROM:+0100
TZOFFSETTO:+0200
TZNAME:CEST
DTSTART:20200329T010000
END:DAYLIGHT
BEGIN:STANDARD
TZOFFSETFROM:+0200
TZOFFSETTO:+0100
TZNAME:CET
DTSTART:20201025T010000
END:STANDARD
END:VTIMEZONE
BEGIN:VEVENT
DTSTART;TZID=Europe/Berlin:20191202T193000
DTEND;TZID=Europe/Berlin:20191202T213000
DTSTAMP:20260426T054700
CREATED:20190411T112104Z
LAST-MODIFIED:20190411T112104Z
UID:1810-1575315000-1575322200@www.hedwig-singers.de
SUMMARY:Chorprobe
DESCRIPTION:
URL:https://www.hedwig-singers.de/event/chorprobe-83/
LOCATION:Pfarrzentrum Herz-Jesu\, Ahornstraße 52\, Gelsenkirchen\, NRW\, 45892\, Deutschland
CATEGORIES:Probe
END:VEVENT
BEGIN:VEVENT
DTSTART;TZID=Europe/Berlin:20191209T193000
DTEND;TZID=Europe/Berlin:20191209T213000
DTSTAMP:20260426T054700
CREATED:20190411T112134Z
LAST-MODIFIED:20190411T112134Z
UID:1812-1575919800-1575927000@www.hedwig-singers.de
SUMMARY:Chorprobe
DESCRIPTION:
URL:https://www.hedwig-singers.de/event/chorprobe-84/
LOCATION:Pfarrzentrum Herz-Jesu\, Ahornstraße 52\, Gelsenkirchen\, NRW\, 45892\, Deutschland
CATEGORIES:Probe
END:VEVENT
BEGIN:VEVENT
DTSTART;TZID=Europe/Berlin:20191216T193000
DTEND;TZID=Europe/Berlin:20191216T213000
DTSTAMP:20260426T054700
CREATED:20190411T112202Z
LAST-MODIFIED:20190411T112202Z
UID:1814-1576524600-1576531800@www.hedwig-singers.de
SUMMARY:Chorprobe
DESCRIPTION:
URL:https://www.hedwig-singers.de/event/chorprobe-85/
LOCATION:Pfarrzentrum Herz-Jesu\, Ahornstraße 52\, Gelsenkirchen\, NRW\, 45892\, Deutschland
CATEGORIES:Probe
END:VEVENT
BEGIN:VEVENT
DTSTART;TZID=Europe/Berlin:20191226T101500
DTEND;TZID=Europe/Berlin:20191226T113000
DTSTAMP:20260426T054700
CREATED:20190116T135940Z
LAST-MODIFIED:20191231T131659Z
UID:1516-1577355300-1577359800@www.hedwig-singers.de
SUMMARY:2. Weihnachtstag
DESCRIPTION:
URL:https://www.hedwig-singers.de/event/2-weihnachtstag-2/
LOCATION:Herz-Jesu Kirche\, Ahornstraße 48\, Gelsenkirchen\, NRW\, 45892\, Deutschland
CATEGORIES:Auftritte
END:VEVENT
BEGIN:VEVENT
DTSTART;VALUE=DATE:20191228
DTEND;VALUE=DATE:20191229
DTSTAMP:20260426T054700
CREATED:20190116T140022Z
LAST-MODIFIED:20190116T140022Z
UID:1518-1577491200-1577577599@www.hedwig-singers.de
SUMMARY:Weihnachtsliedersingen
DESCRIPTION:
URL:https://www.hedwig-singers.de/event/weihnachtsliedersingen-2/
LOCATION:Pfarrzentrum Herz-Jesu\, Ahornstraße 52\, Gelsenkirchen\, NRW\, 45892\, Deutschland
CATEGORIES:Sonstiges
END:VEVENT
END:VCALENDAR