BEGIN:VCALENDAR
VERSION:2.0
PRODID:-//Hedwig Singers - ECPv6.15.12.2//NONSGML v1.0//EN
CALSCALE:GREGORIAN
METHOD:PUBLISH
X-WR-CALNAME:Hedwig Singers
X-ORIGINAL-URL:https://www.hedwig-singers.de
X-WR-CALDESC:Veranstaltungen für Hedwig Singers
REFRESH-INTERVAL;VALUE=DURATION:PT1H
X-Robots-Tag:noindex
X-PUBLISHED-TTL:PT1H
BEGIN:VTIMEZONE
TZID:Europe/Berlin
BEGIN:DAYLIGHT
TZOFFSETFROM:+0100
TZOFFSETTO:+0200
TZNAME:CEST
DTSTART:20190331T010000
END:DAYLIGHT
BEGIN:STANDARD
TZOFFSETFROM:+0200
TZOFFSETTO:+0100
TZNAME:CET
DTSTART:20191027T010000
END:STANDARD
BEGIN:DAYLIGHT
TZOFFSETFROM:+0100
TZOFFSETTO:+0200
TZNAME:CEST
DTSTART:20200329T010000
END:DAYLIGHT
BEGIN:STANDARD
TZOFFSETFROM:+0200
TZOFFSETTO:+0100
TZNAME:CET
DTSTART:20201025T010000
END:STANDARD
BEGIN:DAYLIGHT
TZOFFSETFROM:+0100
TZOFFSETTO:+0200
TZNAME:CEST
DTSTART:20210328T010000
END:DAYLIGHT
BEGIN:STANDARD
TZOFFSETFROM:+0200
TZOFFSETTO:+0100
TZNAME:CET
DTSTART:20211031T010000
END:STANDARD
END:VTIMEZONE
BEGIN:VEVENT
DTSTART;TZID=Europe/Berlin:20200817T194500
DTEND;TZID=Europe/Berlin:20200817T210000
DTSTAMP:20260425T160328
CREATED:20200811T093103Z
LAST-MODIFIED:20201003T131132Z
UID:2330-1597693500-1597698000@www.hedwig-singers.de
SUMMARY:Chorprobe
DESCRIPTION:
URL:https://www.hedwig-singers.de/event/chorprobe-95/
LOCATION:ehem. Bonifatiuskirche\, Crangerstr 338\, Gelsenkirchen\, NRW\, 45891\, Deutschland
CATEGORIES:Probe
END:VEVENT
BEGIN:VEVENT
DTSTART;TZID=Europe/Berlin:20200825T194500
DTEND;TZID=Europe/Berlin:20200825T210000
DTSTAMP:20260425T160328
CREATED:20200824T135646Z
LAST-MODIFIED:20201003T131314Z
UID:2332-1598384700-1598389200@www.hedwig-singers.de
SUMMARY:Chorprobe
DESCRIPTION:
URL:https://www.hedwig-singers.de/event/chorprobe-96/
LOCATION:ehem. Bonifatiuskirche\, Crangerstr 338\, Gelsenkirchen\, NRW\, 45891\, Deutschland
CATEGORIES:Probe
END:VEVENT
BEGIN:VEVENT
DTSTART;TZID=Europe/Berlin:20200831T194500
DTEND;TZID=Europe/Berlin:20200831T210000
DTSTAMP:20260425T160328
CREATED:20200824T151412Z
LAST-MODIFIED:20201003T131416Z
UID:2334-1598903100-1598907600@www.hedwig-singers.de
SUMMARY:Chorprobe
DESCRIPTION:
URL:https://www.hedwig-singers.de/event/chorprobe-97/
LOCATION:Pfarrzentrum Herz-Jesu\, Ahornstraße 52\, Gelsenkirchen\, NRW\, 45892\, Deutschland
CATEGORIES:Probe
END:VEVENT
END:VCALENDAR