BEGIN:VCALENDAR
VERSION:2.0
PRODID:-//Hedwig Singers - ECPv6.15.12.2//NONSGML v1.0//EN
CALSCALE:GREGORIAN
METHOD:PUBLISH
X-WR-CALNAME:Hedwig Singers
X-ORIGINAL-URL:https://www.hedwig-singers.de
X-WR-CALDESC:Veranstaltungen für Hedwig Singers
REFRESH-INTERVAL;VALUE=DURATION:PT1H
X-Robots-Tag:noindex
X-PUBLISHED-TTL:PT1H
BEGIN:VTIMEZONE
TZID:Europe/Berlin
BEGIN:DAYLIGHT
TZOFFSETFROM:+0100
TZOFFSETTO:+0200
TZNAME:CEST
DTSTART:20190331T010000
END:DAYLIGHT
BEGIN:STANDARD
TZOFFSETFROM:+0200
TZOFFSETTO:+0100
TZNAME:CET
DTSTART:20191027T010000
END:STANDARD
BEGIN:DAYLIGHT
TZOFFSETFROM:+0100
TZOFFSETTO:+0200
TZNAME:CEST
DTSTART:20200329T010000
END:DAYLIGHT
BEGIN:STANDARD
TZOFFSETFROM:+0200
TZOFFSETTO:+0100
TZNAME:CET
DTSTART:20201025T010000
END:STANDARD
BEGIN:DAYLIGHT
TZOFFSETFROM:+0100
TZOFFSETTO:+0200
TZNAME:CEST
DTSTART:20210328T010000
END:DAYLIGHT
BEGIN:STANDARD
TZOFFSETFROM:+0200
TZOFFSETTO:+0100
TZNAME:CET
DTSTART:20211031T010000
END:STANDARD
END:VTIMEZONE
BEGIN:VEVENT
DTSTART;TZID=Europe/Berlin:20201005T194500
DTEND;TZID=Europe/Berlin:20201005T210000
DTSTAMP:20260425T123527
CREATED:20200927T151537Z
LAST-MODIFIED:20201003T132231Z
UID:2340-1601927100-1601931600@www.hedwig-singers.de
SUMMARY:Chorprobe
DESCRIPTION:
URL:https://www.hedwig-singers.de/event/chorprobe-100/
LOCATION:ehem. Bonifatiuskirche\, Crangerstr 338\, Gelsenkirchen\, NRW\, 45891\, Deutschland
CATEGORIES:Probe
END:VEVENT
BEGIN:VEVENT
DTSTART;TZID=Europe/Berlin:20201012T194500
DTEND;TZID=Europe/Berlin:20201012T210000
DTSTAMP:20260425T123527
CREATED:20201003T132302Z
LAST-MODIFIED:20211004T185832Z
UID:2342-1602531900-1602536400@www.hedwig-singers.de
SUMMARY:Chorprobe
DESCRIPTION:
URL:https://www.hedwig-singers.de/event/chorprobe-101/
LOCATION:St. Konrad Kirche\, Gartmannshof 7\, Gelsenkirchen\, NRW\, 45891\, Deutschland
CATEGORIES:Probe
END:VEVENT
END:VCALENDAR