BEGIN:VCALENDAR
VERSION:2.0
PRODID:-//Hedwig Singers - ECPv6.15.12.2//NONSGML v1.0//EN
CALSCALE:GREGORIAN
METHOD:PUBLISH
X-ORIGINAL-URL:https://www.hedwig-singers.de
X-WR-CALDESC:Veranstaltungen für Hedwig Singers
REFRESH-INTERVAL;VALUE=DURATION:PT1H
X-Robots-Tag:noindex
X-PUBLISHED-TTL:PT1H
BEGIN:VTIMEZONE
TZID:Europe/Berlin
BEGIN:DAYLIGHT
TZOFFSETFROM:+0100
TZOFFSETTO:+0200
TZNAME:CEST
DTSTART:20240331T010000
END:DAYLIGHT
BEGIN:STANDARD
TZOFFSETFROM:+0200
TZOFFSETTO:+0100
TZNAME:CET
DTSTART:20241027T010000
END:STANDARD
BEGIN:DAYLIGHT
TZOFFSETFROM:+0100
TZOFFSETTO:+0200
TZNAME:CEST
DTSTART:20250330T010000
END:DAYLIGHT
BEGIN:STANDARD
TZOFFSETFROM:+0200
TZOFFSETTO:+0100
TZNAME:CET
DTSTART:20251026T010000
END:STANDARD
BEGIN:DAYLIGHT
TZOFFSETFROM:+0100
TZOFFSETTO:+0200
TZNAME:CEST
DTSTART:20260329T010000
END:DAYLIGHT
BEGIN:STANDARD
TZOFFSETFROM:+0200
TZOFFSETTO:+0100
TZNAME:CET
DTSTART:20261025T010000
END:STANDARD
END:VTIMEZONE
BEGIN:VEVENT
DTSTART;TZID=Europe/Berlin:20250103T140000
DTEND;TZID=Europe/Berlin:20250103T160000
DTSTAMP:20260424T132326
CREATED:20250112T215808Z
LAST-MODIFIED:20250112T215808Z
UID:3315-1735912800-1735920000@www.hedwig-singers.de
SUMMARY:Generalprobe
DESCRIPTION:
URL:https://www.hedwig-singers.de/event/generalprobe/
LOCATION:Herz-Jesu Kirche\, Ahornstraße 48\, Gelsenkirchen\, NRW\, 45892\, Deutschland
CATEGORIES:Probe
END:VEVENT
BEGIN:VEVENT
DTSTART;TZID=Europe/Berlin:20250105T160000
DTEND;TZID=Europe/Berlin:20250105T173000
DTSTAMP:20260424T132326
CREATED:20241115T224129Z
LAST-MODIFIED:20241115T234624Z
UID:2995-1736092800-1736098200@www.hedwig-singers.de
SUMMARY:Weihnachtskonzert
DESCRIPTION:
URL:https://www.hedwig-singers.de/event/weihnachtskonzert/
LOCATION:Herz-Jesu Kirche\, Ahornstraße 48\, Gelsenkirchen\, NRW\, 45892\, Deutschland
CATEGORIES:Auftritte
END:VEVENT
BEGIN:VEVENT
DTSTART;TZID=Europe/Berlin:20250106T193000
DTEND;TZID=Europe/Berlin:20250106T210000
DTSTAMP:20260424T132326
CREATED:20250112T184134Z
LAST-MODIFIED:20250112T184134Z
UID:3106-1736191800-1736197200@www.hedwig-singers.de
SUMMARY:Chorprobe
DESCRIPTION:
URL:https://www.hedwig-singers.de/event/chorprobe-165/
LOCATION:Pfarrzentrum Herz-Jesu\, Ahornstraße 52\, Gelsenkirchen\, NRW\, 45892\, Deutschland
CATEGORIES:Probe
END:VEVENT
BEGIN:VEVENT
DTSTART;TZID=Europe/Berlin:20250112T101500
DTEND;TZID=Europe/Berlin:20250112T111500
DTSTAMP:20260424T132326
CREATED:20241115T224234Z
LAST-MODIFIED:20241115T235058Z
UID:2997-1736676900-1736680500@www.hedwig-singers.de
SUMMARY:Gottesdienst
DESCRIPTION:
URL:https://www.hedwig-singers.de/event/gottesdienst/
LOCATION:Herz-Jesu Kirche\, Ahornstraße 48\, Gelsenkirchen\, NRW\, 45892\, Deutschland
CATEGORIES:Auftritte
END:VEVENT
BEGIN:VEVENT
DTSTART;TZID=Europe/Berlin:20250113T193000
DTEND;TZID=Europe/Berlin:20250113T213000
DTSTAMP:20260424T132326
CREATED:20250112T184230Z
LAST-MODIFIED:20250112T184230Z
UID:3108-1736796600-1736803800@www.hedwig-singers.de
SUMMARY:Chorprobe
DESCRIPTION:
URL:https://www.hedwig-singers.de/event/chorprobe-166/
LOCATION:Pfarrzentrum Herz-Jesu\, Ahornstraße 52\, Gelsenkirchen\, NRW\, 45892\, Deutschland
CATEGORIES:Probe
END:VEVENT
BEGIN:VEVENT
DTSTART;TZID=Europe/Berlin:20250120T193000
DTEND;TZID=Europe/Berlin:20250120T213000
DTSTAMP:20260424T132326
CREATED:20250112T184310Z
LAST-MODIFIED:20250112T184310Z
UID:3110-1737401400-1737408600@www.hedwig-singers.de
SUMMARY:Chorprobe
DESCRIPTION:
URL:https://www.hedwig-singers.de/event/chorprobe-167/
LOCATION:Pfarrzentrum Herz-Jesu\, Ahornstraße 52\, Gelsenkirchen\, NRW\, 45892\, Deutschland
CATEGORIES:Probe
END:VEVENT
BEGIN:VEVENT
DTSTART;TZID=Europe/Berlin:20250127T193000
DTEND;TZID=Europe/Berlin:20250127T213000
DTSTAMP:20260424T132326
CREATED:20250112T184349Z
LAST-MODIFIED:20250112T184349Z
UID:3112-1738006200-1738013400@www.hedwig-singers.de
SUMMARY:Chorprobe
DESCRIPTION:
URL:https://www.hedwig-singers.de/event/chorprobe-168/
LOCATION:Pfarrzentrum Herz-Jesu\, Ahornstraße 52\, Gelsenkirchen\, NRW\, 45892\, Deutschland
CATEGORIES:Probe
END:VEVENT
END:VCALENDAR